BEGIN:VCALENDAR
VERSION:2.0
PRODID:-//The Digital Neighborhood - ECPv6.15.20//NONSGML v1.0//EN
CALSCALE:GREGORIAN
METHOD:PUBLISH
X-ORIGINAL-URL:https://www.thedigitalneighborhood.com
X-WR-CALDESC:Events for The Digital Neighborhood
REFRESH-INTERVAL;VALUE=DURATION:PT1H
X-Robots-Tag:noindex
X-PUBLISHED-TTL:PT1H
BEGIN:VTIMEZONE
TZID:Europe/Amsterdam
BEGIN:DAYLIGHT
TZOFFSETFROM:+0100
TZOFFSETTO:+0200
TZNAME:CEST
DTSTART:20250330T010000
END:DAYLIGHT
BEGIN:STANDARD
TZOFFSETFROM:+0200
TZOFFSETTO:+0100
TZNAME:CET
DTSTART:20251026T010000
END:STANDARD
BEGIN:DAYLIGHT
TZOFFSETFROM:+0100
TZOFFSETTO:+0200
TZNAME:CEST
DTSTART:20260329T010000
END:DAYLIGHT
BEGIN:STANDARD
TZOFFSETFROM:+0200
TZOFFSETTO:+0100
TZNAME:CET
DTSTART:20261025T010000
END:STANDARD
BEGIN:DAYLIGHT
TZOFFSETFROM:+0100
TZOFFSETTO:+0200
TZNAME:CEST
DTSTART:20270328T010000
END:DAYLIGHT
BEGIN:STANDARD
TZOFFSETFROM:+0200
TZOFFSETTO:+0100
TZNAME:CET
DTSTART:20271031T010000
END:STANDARD
END:VTIMEZONE
BEGIN:VTIMEZONE
TZID:Europe/Helsinki
BEGIN:DAYLIGHT
TZOFFSETFROM:+0200
TZOFFSETTO:+0300
TZNAME:EEST
DTSTART:20250330T010000
END:DAYLIGHT
BEGIN:STANDARD
TZOFFSETFROM:+0300
TZOFFSETTO:+0200
TZNAME:EET
DTSTART:20251026T010000
END:STANDARD
BEGIN:DAYLIGHT
TZOFFSETFROM:+0200
TZOFFSETTO:+0300
TZNAME:EEST
DTSTART:20260329T010000
END:DAYLIGHT
BEGIN:STANDARD
TZOFFSETFROM:+0300
TZOFFSETTO:+0200
TZNAME:EET
DTSTART:20261025T010000
END:STANDARD
BEGIN:DAYLIGHT
TZOFFSETFROM:+0200
TZOFFSETTO:+0300
TZNAME:EEST
DTSTART:20270328T010000
END:DAYLIGHT
BEGIN:STANDARD
TZOFFSETFROM:+0300
TZOFFSETTO:+0200
TZNAME:EET
DTSTART:20271031T010000
END:STANDARD
END:VTIMEZONE
BEGIN:VEVENT
DTSTART;TZID=Europe/Amsterdam:20260421T083000
DTEND;TZID=Europe/Amsterdam:20260421T230000
DTSTAMP:20260421T125014
CREATED:20260309T102239Z
LAST-MODIFIED:20260309T102239Z
UID:59436-1776760200-1776812400@www.thedigitalneighborhood.com
SUMMARY:Event: From AI pilot to global solution - Hempel leads the way

URL:https://www.thedigitalneighborhood.com/event/event-from-ai-pilot-to-global-solution-hempel-leads-the-way/
LOCATION:Microsoft Denmark\, Kanalvej 7\, Kongens Lyngby\, 2800\, Denmark
END:VEVENT
BEGIN:VEVENT
DTSTART;TZID=Europe/Amsterdam:20260423T100000
DTEND;TZID=Europe/Amsterdam:20260423T104500
DTSTAMP:20260421T125014
CREATED:20260413T071133Z
LAST-MODIFIED:20260413T071313Z
UID:59466-1776938400-1776941100@www.thedigitalneighborhood.com
SUMMARY:Webinar: AI Agents in Dynamics 365 Customer Service

URL:https://www.thedigitalneighborhood.com/event/webinar-ai-agents-in-dynamics-365-customer-service/
LOCATION:Webinar
END:VEVENT
BEGIN:VEVENT
DTSTART;VALUE=DATE:20260428
DTEND;VALUE=DATE:20260429
DTSTAMP:20260421T125014
CREATED:20260127T135142Z
LAST-MODIFIED:20260127T135252Z
UID:59367-1777334400-1777420799@www.thedigitalneighborhood.com
SUMMARY:Microsoft AI Tour Helsinki
DESCRIPTION:Join this free one‑day event in Helsinki and learn how you can become a leader in AI.
URL:https://www.thedigitalneighborhood.com/event/microsoft-ai-tour-helsinki-2/
LOCATION:Helsinki\, Helsinki\, Finland
CATEGORIES:Trade fair
ATTACH;FMTTYPE=image/jpeg:https://www.thedigitalneighborhood.com/wp-content/uploads/2026/01/microsoft-ai-tour26.jpg
END:VEVENT
BEGIN:VEVENT
DTSTART;TZID=Europe/Amsterdam:20260430T090000
DTEND;TZID=Europe/Amsterdam:20260430T110000
DTSTAMP:20260421T125014
CREATED:20260413T071613Z
LAST-MODIFIED:20260413T071944Z
UID:59471-1777539600-1777546800@www.thedigitalneighborhood.com
SUMMARY:Roundtable: AI Agents in Dynamics 365 Sales

URL:https://www.thedigitalneighborhood.com/event/roundtable-ai-agents-in-dynamics-365-sales-2/
LOCATION:Virum\, Denmark\, Denmark
END:VEVENT
END:VCALENDAR