BEGIN:VCALENDAR
VERSION:2.0
PRODID:-//The Digital Neighborhood - ECPv6.15.20//NONSGML v1.0//EN
CALSCALE:GREGORIAN
METHOD:PUBLISH
X-WR-CALNAME:The Digital Neighborhood
X-ORIGINAL-URL:https://www.thedigitalneighborhood.com
X-WR-CALDESC:Events for The Digital Neighborhood
REFRESH-INTERVAL;VALUE=DURATION:PT1H
X-Robots-Tag:noindex
X-PUBLISHED-TTL:PT1H
BEGIN:VTIMEZONE
TZID:Europe/Amsterdam
BEGIN:DAYLIGHT
TZOFFSETFROM:+0100
TZOFFSETTO:+0200
TZNAME:CEST
DTSTART:20240331T010000
END:DAYLIGHT
BEGIN:STANDARD
TZOFFSETFROM:+0200
TZOFFSETTO:+0100
TZNAME:CET
DTSTART:20241027T010000
END:STANDARD
BEGIN:DAYLIGHT
TZOFFSETFROM:+0100
TZOFFSETTO:+0200
TZNAME:CEST
DTSTART:20250330T010000
END:DAYLIGHT
BEGIN:STANDARD
TZOFFSETFROM:+0200
TZOFFSETTO:+0100
TZNAME:CET
DTSTART:20251026T010000
END:STANDARD
BEGIN:DAYLIGHT
TZOFFSETFROM:+0100
TZOFFSETTO:+0200
TZNAME:CEST
DTSTART:20260329T010000
END:DAYLIGHT
BEGIN:STANDARD
TZOFFSETFROM:+0200
TZOFFSETTO:+0100
TZNAME:CET
DTSTART:20261025T010000
END:STANDARD
END:VTIMEZONE
BEGIN:VTIMEZONE
TZID:Europe/Helsinki
BEGIN:DAYLIGHT
TZOFFSETFROM:+0200
TZOFFSETTO:+0300
TZNAME:EEST
DTSTART:20240331T010000
END:DAYLIGHT
BEGIN:STANDARD
TZOFFSETFROM:+0300
TZOFFSETTO:+0200
TZNAME:EET
DTSTART:20241027T010000
END:STANDARD
BEGIN:DAYLIGHT
TZOFFSETFROM:+0200
TZOFFSETTO:+0300
TZNAME:EEST
DTSTART:20250330T010000
END:DAYLIGHT
BEGIN:STANDARD
TZOFFSETFROM:+0300
TZOFFSETTO:+0200
TZNAME:EET
DTSTART:20251026T010000
END:STANDARD
BEGIN:DAYLIGHT
TZOFFSETFROM:+0200
TZOFFSETTO:+0300
TZNAME:EEST
DTSTART:20260329T010000
END:DAYLIGHT
BEGIN:STANDARD
TZOFFSETFROM:+0300
TZOFFSETTO:+0200
TZNAME:EET
DTSTART:20261025T010000
END:STANDARD
END:VTIMEZONE
BEGIN:VEVENT
DTSTART;TZID=Europe/Amsterdam:20250401T083000
DTEND;TZID=Europe/Amsterdam:20250401T120000
DTSTAMP:20260423T021640
CREATED:20250312T124800Z
LAST-MODIFIED:20250312T124800Z
UID:58729-1743496200-1743508800@www.thedigitalneighborhood.com
SUMMARY:The future of digital customer service: Practical solutions for a modern customer service center

URL:https://www.thedigitalneighborhood.com/event/the-future-of-digital-customer-service-virum/
LOCATION:Delegate Virum\, Hummeltoftevej 49\, Virum\, 2830\, Denmark
CATEGORIES:Knowledge sharing
END:VEVENT
BEGIN:VEVENT
DTSTART;TZID=Europe/Amsterdam:20250403T083000
DTEND;TZID=Europe/Amsterdam:20250403T120000
DTSTAMP:20260423T021640
CREATED:20250312T125245Z
LAST-MODIFIED:20250312T125245Z
UID:58731-1743669000-1743681600@www.thedigitalneighborhood.com
SUMMARY:The future of digital customer service: Practical solutions for a modern customer service center

URL:https://www.thedigitalneighborhood.com/event/the-future-of-digital-customer-service-aarhus/
LOCATION:Delegate Aarhus\, Søren Frichs Vej 36G\, 2nd floor\, Åbyhøj\, 8230\, Denmark
CATEGORIES:Knowledge sharing
END:VEVENT
BEGIN:VEVENT
DTSTART;TZID=Europe/Helsinki:20250408T090000
DTEND;TZID=Europe/Helsinki:20250408T100000
DTSTAMP:20260423T021640
CREATED:20250331T105018Z
LAST-MODIFIED:20250331T105018Z
UID:58750-1744102800-1744106400@www.thedigitalneighborhood.com
SUMMARY:This is how you build an agent with Azure AI Agent Service
DESCRIPTION:Welcome to the free webinar to learn how to utilize the Azure AI Agent Service for building agents! You will learn about the service's capabilities and the situations where an agent provides solutions.
URL:https://www.thedigitalneighborhood.com/event/this-is-how-you-build-an-agent-with-azure-ai-agent-service/
LOCATION:Webinar
CATEGORIES:Webinar
END:VEVENT
BEGIN:VEVENT
DTSTART;TZID=Europe/Amsterdam:20250408T100000
DTEND;TZID=Europe/Amsterdam:20250408T110000
DTSTAMP:20260423T021640
CREATED:20250304T144352Z
LAST-MODIFIED:20250304T144352Z
UID:58712-1744106400-1744110000@www.thedigitalneighborhood.com
SUMMARY:Putting OKRs into practice

URL:https://www.thedigitalneighborhood.com/event/putting-okrs-into-practice/
LOCATION:Webinar
ATTACH;FMTTYPE=image/png:https://www.thedigitalneighborhood.com/wp-content/uploads/2025/03/HERO.png
ORGANIZER;CN="Projectum":MAILTO:marketing@projectum.com
END:VEVENT
END:VCALENDAR