BEGIN:VCALENDAR
VERSION:2.0
PRODID:-//The Digital Neighborhood - ECPv6.15.20//NONSGML v1.0//EN
CALSCALE:GREGORIAN
METHOD:PUBLISH
X-WR-CALNAME:The Digital Neighborhood
X-ORIGINAL-URL:https://www.thedigitalneighborhood.com
X-WR-CALDESC:Events for The Digital Neighborhood
REFRESH-INTERVAL;VALUE=DURATION:PT1H
X-Robots-Tag:noindex
X-PUBLISHED-TTL:PT1H
BEGIN:VTIMEZONE
TZID:Europe/Amsterdam
BEGIN:DAYLIGHT
TZOFFSETFROM:+0100
TZOFFSETTO:+0200
TZNAME:CEST
DTSTART:20250330T010000
END:DAYLIGHT
BEGIN:STANDARD
TZOFFSETFROM:+0200
TZOFFSETTO:+0100
TZNAME:CET
DTSTART:20251026T010000
END:STANDARD
BEGIN:DAYLIGHT
TZOFFSETFROM:+0100
TZOFFSETTO:+0200
TZNAME:CEST
DTSTART:20260329T010000
END:DAYLIGHT
BEGIN:STANDARD
TZOFFSETFROM:+0200
TZOFFSETTO:+0100
TZNAME:CET
DTSTART:20261025T010000
END:STANDARD
BEGIN:DAYLIGHT
TZOFFSETFROM:+0100
TZOFFSETTO:+0200
TZNAME:CEST
DTSTART:20270328T010000
END:DAYLIGHT
BEGIN:STANDARD
TZOFFSETFROM:+0200
TZOFFSETTO:+0100
TZNAME:CET
DTSTART:20271031T010000
END:STANDARD
END:VTIMEZONE
BEGIN:VTIMEZONE
TZID:Europe/Helsinki
BEGIN:DAYLIGHT
TZOFFSETFROM:+0200
TZOFFSETTO:+0300
TZNAME:EEST
DTSTART:20250330T010000
END:DAYLIGHT
BEGIN:STANDARD
TZOFFSETFROM:+0300
TZOFFSETTO:+0200
TZNAME:EET
DTSTART:20251026T010000
END:STANDARD
BEGIN:DAYLIGHT
TZOFFSETFROM:+0200
TZOFFSETTO:+0300
TZNAME:EEST
DTSTART:20260329T010000
END:DAYLIGHT
BEGIN:STANDARD
TZOFFSETFROM:+0300
TZOFFSETTO:+0200
TZNAME:EET
DTSTART:20261025T010000
END:STANDARD
BEGIN:DAYLIGHT
TZOFFSETFROM:+0200
TZOFFSETTO:+0300
TZNAME:EEST
DTSTART:20270328T010000
END:DAYLIGHT
BEGIN:STANDARD
TZOFFSETFROM:+0300
TZOFFSETTO:+0200
TZNAME:EET
DTSTART:20271031T010000
END:STANDARD
END:VTIMEZONE
BEGIN:VEVENT
DTSTART;TZID=Europe/Amsterdam:20260414T093000
DTEND;TZID=Europe/Amsterdam:20260416T163000
DTSTAMP:20260423T075135
CREATED:20260218T215649Z
LAST-MODIFIED:20260218T215841Z
UID:59419-1776159000-1776357000@www.thedigitalneighborhood.com
SUMMARY:Zorg&ICT 2026

URL:https://www.thedigitalneighborhood.com/event/zorgict-2026/
LOCATION:Jaarbeurs Utrecht\, Truus van Lierlaan 1\, Utrecht\, Utrecht&nbsp\, Netherlands
END:VEVENT
BEGIN:VEVENT
DTSTART;TZID=Europe/Amsterdam:20260414T100000
DTEND;TZID=Europe/Amsterdam:20260414T223000
DTSTAMP:20260423T075135
CREATED:20260413T070221Z
LAST-MODIFIED:20260413T070221Z
UID:59457-1776160800-1776205800@www.thedigitalneighborhood.com
SUMMARY:Webinar: What’s new in Business Central (BC28)

URL:https://www.thedigitalneighborhood.com/event/webinar-whats-new-in-business-central-bc28/
LOCATION:Webinar
END:VEVENT
BEGIN:VEVENT
DTSTART;TZID=Europe/Amsterdam:20260416T090000
DTEND;TZID=Europe/Amsterdam:20260416T170000
DTSTAMP:20260423T075135
CREATED:20260413T070616Z
LAST-MODIFIED:20260413T070837Z
UID:59461-1776330000-1776358800@www.thedigitalneighborhood.com
SUMMARY:Event: Agent in a Day

URL:https://www.thedigitalneighborhood.com/event/event-agent-in-a-day/
LOCATION:Microsoft Denmark\, Kanalvej 7\, Kongens Lyngby\, 2800\, Denmark
END:VEVENT
BEGIN:VEVENT
DTSTART;TZID=Europe/Amsterdam:20260421T083000
DTEND;TZID=Europe/Amsterdam:20260421T230000
DTSTAMP:20260423T075135
CREATED:20260309T102239Z
LAST-MODIFIED:20260309T102239Z
UID:59436-1776760200-1776812400@www.thedigitalneighborhood.com
SUMMARY:Event: From AI pilot to global solution - Hempel leads the way

URL:https://www.thedigitalneighborhood.com/event/event-from-ai-pilot-to-global-solution-hempel-leads-the-way/
LOCATION:Microsoft Denmark\, Kanalvej 7\, Kongens Lyngby\, 2800\, Denmark
END:VEVENT
BEGIN:VEVENT
DTSTART;TZID=Europe/Amsterdam:20260423T100000
DTEND;TZID=Europe/Amsterdam:20260423T104500
DTSTAMP:20260423T075135
CREATED:20260413T071133Z
LAST-MODIFIED:20260413T071313Z
UID:59466-1776938400-1776941100@www.thedigitalneighborhood.com
SUMMARY:Webinar: AI Agents in Dynamics 365 Customer Service

URL:https://www.thedigitalneighborhood.com/event/webinar-ai-agents-in-dynamics-365-customer-service/
LOCATION:Webinar
END:VEVENT
BEGIN:VEVENT
DTSTART;VALUE=DATE:20260428
DTEND;VALUE=DATE:20260429
DTSTAMP:20260423T075135
CREATED:20260127T135142Z
LAST-MODIFIED:20260127T135252Z
UID:59367-1777334400-1777420799@www.thedigitalneighborhood.com
SUMMARY:Microsoft AI Tour Helsinki
DESCRIPTION:Join this free one‑day event in Helsinki and learn how you can become a leader in AI.
URL:https://www.thedigitalneighborhood.com/event/microsoft-ai-tour-helsinki-2/
LOCATION:Helsinki\, Helsinki\, Finland
CATEGORIES:Trade fair
ATTACH;FMTTYPE=image/jpeg:https://www.thedigitalneighborhood.com/wp-content/uploads/2026/01/microsoft-ai-tour26.jpg
END:VEVENT
BEGIN:VEVENT
DTSTART;TZID=Europe/Amsterdam:20260430T090000
DTEND;TZID=Europe/Amsterdam:20260430T110000
DTSTAMP:20260423T075135
CREATED:20260413T071613Z
LAST-MODIFIED:20260413T071944Z
UID:59471-1777539600-1777546800@www.thedigitalneighborhood.com
SUMMARY:Roundtable: AI Agents in Dynamics 365 Sales

URL:https://www.thedigitalneighborhood.com/event/roundtable-ai-agents-in-dynamics-365-sales-2/
LOCATION:Virum\, Denmark\, Denmark
END:VEVENT
BEGIN:VEVENT
DTSTART;TZID=Europe/Amsterdam:20260507T140000
DTEND;TZID=Europe/Amsterdam:20260507T160000
DTSTAMP:20260423T075135
CREATED:20260413T072322Z
LAST-MODIFIED:20260413T072417Z
UID:59478-1778162400-1778169600@www.thedigitalneighborhood.com
SUMMARY:Event: One unified solution. A stronger supply chain

URL:https://www.thedigitalneighborhood.com/event/event-one-unified-solution-a-stronger-supply-chain-2/
LOCATION:NOVI Science Park\, 9220 Aalborg Ø\, Aalborg\, Denmark
END:VEVENT
BEGIN:VEVENT
DTSTART;VALUE=DATE:20260521
DTEND;VALUE=DATE:20260522
DTSTAMP:20260423T075135
CREATED:20260122T133648Z
LAST-MODIFIED:20260122T133821Z
UID:59346-1779321600-1779407999@www.thedigitalneighborhood.com
SUMMARY:M365 HPR seminar
DESCRIPTION:Seminar about M365 development, artificial intelligence, security, intranets, document management, and the development of the digital work environment.
URL:https://www.thedigitalneighborhood.com/event/m365-hpr-seminar-2026/
LOCATION:Helsinki\, Helsinki\, Finland
CATEGORIES:Trade fair
ATTACH;FMTTYPE=image/jpeg:https://www.thedigitalneighborhood.com/wp-content/uploads/2025/01/hpr-2022_yleiskuva-1200x630-1-1024x538-1.jpg
END:VEVENT
BEGIN:VEVENT
DTSTART;TZID=Europe/Amsterdam:20260528T000000
DTEND;TZID=Europe/Amsterdam:20260528T160000
DTSTAMP:20260423T075135
CREATED:20260413T073253Z
LAST-MODIFIED:20260413T073542Z
UID:59484-1779926400-1779984000@www.thedigitalneighborhood.com
SUMMARY:Event: Enterprise PMO Roundtable – Life Sciences

URL:https://www.thedigitalneighborhood.com/event/event-enterprise-pmo-roundtable-life-sciences/
LOCATION:Microsoft Denmark\, Kanalvej 7\, Kongens Lyngby\, 2800\, Denmark
END:VEVENT
END:VCALENDAR