BEGIN:VCALENDAR
VERSION:2.0
PRODID:-//The Digital Neighborhood - ECPv6.15.20//NONSGML v1.0//EN
CALSCALE:GREGORIAN
METHOD:PUBLISH
X-WR-CALNAME:The Digital Neighborhood
X-ORIGINAL-URL:https://www.thedigitalneighborhood.com
X-WR-CALDESC:Events for The Digital Neighborhood
REFRESH-INTERVAL;VALUE=DURATION:PT1H
X-Robots-Tag:noindex
X-PUBLISHED-TTL:PT1H
BEGIN:VTIMEZONE
TZID:Europe/Copenhagen
BEGIN:DAYLIGHT
TZOFFSETFROM:+0100
TZOFFSETTO:+0200
TZNAME:CEST
DTSTART:20230326T010000
END:DAYLIGHT
BEGIN:STANDARD
TZOFFSETFROM:+0200
TZOFFSETTO:+0100
TZNAME:CET
DTSTART:20231029T010000
END:STANDARD
BEGIN:DAYLIGHT
TZOFFSETFROM:+0100
TZOFFSETTO:+0200
TZNAME:CEST
DTSTART:20240331T010000
END:DAYLIGHT
BEGIN:STANDARD
TZOFFSETFROM:+0200
TZOFFSETTO:+0100
TZNAME:CET
DTSTART:20241027T010000
END:STANDARD
BEGIN:DAYLIGHT
TZOFFSETFROM:+0100
TZOFFSETTO:+0200
TZNAME:CEST
DTSTART:20250330T010000
END:DAYLIGHT
BEGIN:STANDARD
TZOFFSETFROM:+0200
TZOFFSETTO:+0100
TZNAME:CET
DTSTART:20251026T010000
END:STANDARD
BEGIN:DAYLIGHT
TZOFFSETFROM:+0100
TZOFFSETTO:+0200
TZNAME:CEST
DTSTART:20260329T010000
END:DAYLIGHT
BEGIN:STANDARD
TZOFFSETFROM:+0200
TZOFFSETTO:+0100
TZNAME:CET
DTSTART:20261025T010000
END:STANDARD
END:VTIMEZONE
BEGIN:VTIMEZONE
TZID:Europe/Amsterdam
BEGIN:DAYLIGHT
TZOFFSETFROM:+0100
TZOFFSETTO:+0200
TZNAME:CEST
DTSTART:20230326T010000
END:DAYLIGHT
BEGIN:STANDARD
TZOFFSETFROM:+0200
TZOFFSETTO:+0100
TZNAME:CET
DTSTART:20231029T010000
END:STANDARD
BEGIN:DAYLIGHT
TZOFFSETFROM:+0100
TZOFFSETTO:+0200
TZNAME:CEST
DTSTART:20240331T010000
END:DAYLIGHT
BEGIN:STANDARD
TZOFFSETFROM:+0200
TZOFFSETTO:+0100
TZNAME:CET
DTSTART:20241027T010000
END:STANDARD
BEGIN:DAYLIGHT
TZOFFSETFROM:+0100
TZOFFSETTO:+0200
TZNAME:CEST
DTSTART:20250330T010000
END:DAYLIGHT
BEGIN:STANDARD
TZOFFSETFROM:+0200
TZOFFSETTO:+0100
TZNAME:CET
DTSTART:20251026T010000
END:STANDARD
END:VTIMEZONE
BEGIN:VEVENT
DTSTART;TZID=Europe/Copenhagen:20250108T100000
DTEND;TZID=Europe/Copenhagen:20250108T120000
DTSTAMP:20260423T062142
CREATED:20241204T075242Z
LAST-MODIFIED:20241204T075242Z
UID:58633-1736330400-1736337600@www.thedigitalneighborhood.com
SUMMARY:Copilot Connect - Microsoft 365

URL:https://www.thedigitalneighborhood.com/event/copilot-connect-microsoft-365/
LOCATION:Delegate Aarhus\, Søren Frichs Vej 36G\, 2nd floor\, Åbyhøj\, 8230\, Denmark
CATEGORIES:Knowledge sharing
END:VEVENT
BEGIN:VEVENT
DTSTART;TZID=Europe/Amsterdam:20241213T080000
DTEND;TZID=Europe/Amsterdam:20241213T100000
DTSTAMP:20260423T062142
CREATED:20241112T095434Z
LAST-MODIFIED:20241112T095434Z
UID:58591-1734076800-1734084000@www.thedigitalneighborhood.com
SUMMARY:Microsoft 365 Spotlight – the latest features and future prospects

URL:https://www.thedigitalneighborhood.com/event/microsoft-365-spotlight-the-latest-features-and-future-prospects-2/
LOCATION:Webinar
ATTACH;FMTTYPE=image/jpeg:https://www.thedigitalneighborhood.com/wp-content/uploads/2024/03/Vesa-Nopanen-1200x630-1.jpg
END:VEVENT
BEGIN:VEVENT
DTSTART;TZID=Europe/Amsterdam:20241206T120000
DTEND;TZID=Europe/Amsterdam:20241206T133000
DTSTAMP:20260423T062142
CREATED:20241104T082518Z
LAST-MODIFIED:20241104T082518Z
UID:58580-1733486400-1733491800@www.thedigitalneighborhood.com
SUMMARY:Delegate x Aalborg Håndbold Hackathon

URL:https://www.thedigitalneighborhood.com/event/delegate-x-aalborg-handbold-hackathon/
LOCATION:GIGANTIUM\, Willy Brandts Vej 31\, Aalborg\, 9220
CATEGORIES:Knowledge sharing
END:VEVENT
BEGIN:VEVENT
DTSTART;TZID=Europe/Amsterdam:20241203T080000
DTEND;TZID=Europe/Amsterdam:20241203T123000
DTSTAMP:20260423T062142
CREATED:20241104T082120Z
LAST-MODIFIED:20241104T082120Z
UID:58578-1733212800-1733229000@www.thedigitalneighborhood.com
SUMMARY:The future of digital customer service: Insights and solutions from the industry's brightest

URL:https://www.thedigitalneighborhood.com/event/the-future-of-digital-customer-service/
LOCATION:Microsoft Denmark\, Kanalvej 7\, Kongens Lyngby\, 2800\, Denmark
CATEGORIES:Knowledge sharing
END:VEVENT
BEGIN:VEVENT
DTSTART;TZID=Europe/Amsterdam:20241128T140000
DTEND;TZID=Europe/Amsterdam:20241128T180000
DTSTAMP:20260423T062142
CREATED:20241007T140159Z
LAST-MODIFIED:20241007T142020Z
UID:58431-1732802400-1732816800@www.thedigitalneighborhood.com
SUMMARY:Dynamics in the Sky(bar)

URL:https://www.thedigitalneighborhood.com/event/dynamics-in-the-skybar/
LOCATION:Microlab Eindhoven (Skybar)\, Kastanjelaan 400\, Eindhoven\, Noord-Brabant&nbsp\, 5616LZ\, Netherlands
CATEGORIES:Knowledge sharing
ATTACH;FMTTYPE=image/png:https://www.thedigitalneighborhood.com/wp-content/uploads/2024/10/DITS2024-Banner-700X465PX.png
ORGANIZER;CN="ABC E BUSINESS":MAILTO:info@abcebusiness.nl
END:VEVENT
BEGIN:VEVENT
DTSTART;TZID=Europe/Amsterdam:20241127T100000
DTEND;TZID=Europe/Amsterdam:20241127T103000
DTSTAMP:20260423T062142
CREATED:20241024T082151Z
LAST-MODIFIED:20241024T082151Z
UID:58562-1732701600-1732703400@www.thedigitalneighborhood.com
SUMMARY:Webinar: How to kickstart your Copilot journey

URL:https://www.thedigitalneighborhood.com/event/webinar-how-to-kickstart-your-copilot-journey/
LOCATION:Webinar
CATEGORIES:Webinar
END:VEVENT
BEGIN:VEVENT
DTSTART;TZID=Europe/Amsterdam:20241127T090000
DTEND;TZID=Europe/Amsterdam:20241127T093000
DTSTAMP:20260423T062142
CREATED:20241024T081930Z
LAST-MODIFIED:20241024T081930Z
UID:58560-1732698000-1732699800@www.thedigitalneighborhood.com
SUMMARY:Webinar: How to ensure implementation of Copilot M365

URL:https://www.thedigitalneighborhood.com/event/webinar-how-to-ensure-implementation-of-copilot-m365/
LOCATION:Webinar
CATEGORIES:Webinar
END:VEVENT
BEGIN:VEVENT
DTSTART;TZID=Europe/Amsterdam:20241120T100000
DTEND;TZID=Europe/Amsterdam:20241120T103000
DTSTAMP:20260423T062142
CREATED:20241024T081717Z
LAST-MODIFIED:20241024T081717Z
UID:58558-1732096800-1732098600@www.thedigitalneighborhood.com
SUMMARY:Webinar: Finding the right Copilot for Sales

URL:https://www.thedigitalneighborhood.com/event/webinar-finding-the-right-copilot-for-sales/
LOCATION:Webinar
CATEGORIES:Webinar
END:VEVENT
BEGIN:VEVENT
DTSTART;TZID=Europe/Amsterdam:20241120T090000
DTEND;TZID=Europe/Amsterdam:20241120T093000
DTSTAMP:20260423T062142
CREATED:20241024T081439Z
LAST-MODIFIED:20241024T081439Z
UID:58556-1732093200-1732095000@www.thedigitalneighborhood.com
SUMMARY:Webinar: Better meetings with Copilot: From preparation to follow-up

URL:https://www.thedigitalneighborhood.com/event/webinar-better-meetings-with-copilot-from-preparation-to-follow-up/
LOCATION:Webinar
CATEGORIES:Webinar
END:VEVENT
BEGIN:VEVENT
DTSTART;TZID=Europe/Amsterdam:20241119T090000
DTEND;TZID=Europe/Amsterdam:20241119T130000
DTSTAMP:20260423T062142
CREATED:20241018T132738Z
LAST-MODIFIED:20241018T132738Z
UID:58540-1732006800-1732021200@www.thedigitalneighborhood.com
SUMMARY:Event | Copilot\, ready for the launch?

URL:https://www.thedigitalneighborhood.com/event/event-copilot-ready-for-the-launch/
LOCATION:National Military Museum\, Verlengde Paltzerweg 1\, Soest\, 3768MX\, Netherlands
ATTACH;FMTTYPE=image/jpeg:https://www.thedigitalneighborhood.com/wp-content/uploads/2024/10/Nationaal-Militair-Museum-uitgelichte-afbeelding.jpg
END:VEVENT
BEGIN:VEVENT
DTSTART;TZID=Europe/Amsterdam:20241114T100000
DTEND;TZID=Europe/Amsterdam:20241114T103000
DTSTAMP:20260423T062142
CREATED:20241024T081116Z
LAST-MODIFIED:20241024T081136Z
UID:58553-1731578400-1731580200@www.thedigitalneighborhood.com
SUMMARY:Webinar: Explore Copilot for Power Platform and Copilot Studio

URL:https://www.thedigitalneighborhood.com/event/webinar-explore-copilot-for-power-platform-and-copilot-studio/
LOCATION:Webinar
CATEGORIES:Webinar
END:VEVENT
BEGIN:VEVENT
DTSTART;TZID=Europe/Amsterdam:20241114T090000
DTEND;TZID=Europe/Amsterdam:20241114T093000
DTSTAMP:20260423T062142
CREATED:20241024T080843Z
LAST-MODIFIED:20241024T081154Z
UID:58551-1731574800-1731576600@www.thedigitalneighborhood.com
SUMMARY:Webinar: Explore Microsoft 365 Copilot: An Overview of AI in Action

URL:https://www.thedigitalneighborhood.com/event/webinar-explore-microsoft-365-copilot-an-overview-of-ai-in-action/
LOCATION:Webinar
CATEGORIES:Webinar
END:VEVENT
BEGIN:VEVENT
DTSTART;TZID=Europe/Amsterdam:20241113T163000
DTEND;TZID=Europe/Amsterdam:20241113T210000
DTSTAMP:20260423T062142
CREATED:20241104T081654Z
LAST-MODIFIED:20241104T081654Z
UID:58574-1731515400-1731531600@www.thedigitalneighborhood.com
SUMMARY:Networking event in Aarhus for women in IT

URL:https://www.thedigitalneighborhood.com/event/networking-event-in-aarhus-for-women-in-it/
LOCATION:Delegate Aarhus\, Søren Frichs Vej 36G\, 2nd floor\, Åbyhøj\, 8230\, Denmark
CATEGORIES:Knowledge sharing
END:VEVENT
BEGIN:VEVENT
DTSTART;TZID=Europe/Amsterdam:20241112T100000
DTEND;TZID=Europe/Amsterdam:20241112T150000
DTSTAMP:20260423T062142
CREATED:20240918T100701Z
LAST-MODIFIED:20240918T100701Z
UID:58353-1731405600-1731423600@www.thedigitalneighborhood.com
SUMMARY:Projectum xPM Summit - Creating a high-impact PMO

URL:https://www.thedigitalneighborhood.com/event/projectum-xpm-summit-creating-a-high-impact-pmo/
LOCATION:Microsoft Denmark\, Kanalvej 7\, Kongens Lyngby\, 2800\, Denmark
ATTACH;FMTTYPE=image/png:https://www.thedigitalneighborhood.com/wp-content/uploads/2024/09/16-9-Ads-xPM-Summit-2024.png
ORGANIZER;CN="Projectum":MAILTO:marketing@projectum.com
END:VEVENT
BEGIN:VEVENT
DTSTART;TZID=Europe/Amsterdam:20241022T120000
DTEND;TZID=Europe/Amsterdam:20241022T163000
DTSTAMP:20260423T062142
CREATED:20240918T100243Z
LAST-MODIFIED:20240918T100243Z
UID:58347-1729598400-1729614600@www.thedigitalneighborhood.com
SUMMARY:PPM Roundtable: Energy and Utility

URL:https://www.thedigitalneighborhood.com/event/ppm-roundtable-energy-and-utility/
LOCATION:Gladsaxe Company House\, Tobaksvejen 2A\, Søborg\, 2860\, Denmark
ATTACH;FMTTYPE=image/png:https://www.thedigitalneighborhood.com/wp-content/uploads/2024/09/OPEN-GRAPH.png
ORGANIZER;CN="Projectum":MAILTO:marketing@projectum.com
END:VEVENT
BEGIN:VEVENT
DTSTART;TZID=Europe/Amsterdam:20241022T120000
DTEND;TZID=Europe/Amsterdam:20241022T140000
DTSTAMP:20260423T062142
CREATED:20240926T112923Z
LAST-MODIFIED:20240926T113136Z
UID:58378-1729598400-1729605600@www.thedigitalneighborhood.com
SUMMARY:Workshop Cyber Resilience

URL:https://www.thedigitalneighborhood.com/event/workshop-cyber-resilience/
LOCATION:Pink Elephant Naarden\, Gooimeer 18\, Naarden\, 1411 DE\, Netherlands
CATEGORIES:Knowledge sharing
END:VEVENT
BEGIN:VEVENT
DTSTART;TZID=Europe/Amsterdam:20241010T100000
DTEND;TZID=Europe/Amsterdam:20241010T160000
DTSTAMP:20260423T062142
CREATED:20240711T084659Z
LAST-MODIFIED:20240905T072805Z
UID:58190-1728554400-1728576000@www.thedigitalneighborhood.com
SUMMARY:TimeXtender User Day | Fall '24

URL:https://www.thedigitalneighborhood.com/event/timextender-user-day-fall-24/
LOCATION:Active Professionals\, Rotterdam\, Weena 742A\, Rotterdam\, 3014 DA\, Netherlands
ATTACH;FMTTYPE=image/png:https://www.thedigitalneighborhood.com/wp-content/uploads/2024/07/TX-User-Day-TDN.png
ORGANIZER;CN="2Foqus":MAILTO:info@2foqus.nl
END:VEVENT
BEGIN:VEVENT
DTSTART;TZID=Europe/Amsterdam:20241008T080000
DTEND;TZID=Europe/Amsterdam:20241008T090000
DTSTAMP:20260423T062142
CREATED:20240619T104545Z
LAST-MODIFIED:20240619T104545Z
UID:58096-1728374400-1728378000@www.thedigitalneighborhood.com
SUMMARY:How Artificial Intelligence Can Assist You in Reporting?

URL:https://www.thedigitalneighborhood.com/event/how-artificial-intelligence-can-assist-you-in-reporting/
LOCATION:Webinar
ATTACH;FMTTYPE=image/jpeg:https://www.thedigitalneighborhood.com/wp-content/uploads/2024/06/Pauliina-Heikkila-900x1200-1.jpg
END:VEVENT
BEGIN:VEVENT
DTSTART;TZID=Europe/Copenhagen:20241002T090000
DTEND;TZID=Europe/Copenhagen:20241002T213000
DTSTAMP:20260423T062142
CREATED:20240903T124103Z
LAST-MODIFIED:20240903T124103Z
UID:58323-1727859600-1727904600@www.thedigitalneighborhood.com
SUMMARY:Webinar: App in a Day

URL:https://www.thedigitalneighborhood.com/event/webinar-app-in-a-day/
LOCATION:Webinar
END:VEVENT
BEGIN:VEVENT
DTSTART;TZID=Europe/Amsterdam:20241001T080000
DTEND;TZID=Europe/Amsterdam:20241031T170000
DTSTAMP:20260423T062142
CREATED:20240926T101644Z
LAST-MODIFIED:20241031T095026Z
UID:58372-1727769600-1730394000@www.thedigitalneighborhood.com
SUMMARY:Microsoft 365 Copilot birthday webinar series
DESCRIPTION:Microsoft 365 Copilot birthday webinar series throughout October 2024
URL:https://www.thedigitalneighborhood.com/event/microsoft-365-copilot-birthday-webinar-series/
LOCATION:Online
CATEGORIES:Webinar
END:VEVENT
BEGIN:VEVENT
DTSTART;TZID=Europe/Amsterdam:20240927T090000
DTEND;TZID=Europe/Amsterdam:20240927T100000
DTSTAMP:20260423T062142
CREATED:20240827T054402Z
LAST-MODIFIED:20240827T054402Z
UID:58266-1727427600-1727431200@www.thedigitalneighborhood.com
SUMMARY:Webinar: Microsoft Applied Skills – An Exciting New Way to Learn

URL:https://www.thedigitalneighborhood.com/event/webinar-microsoft-applied-skills-an-exciting-new-way-to-learn/
LOCATION:Webinar
ATTACH;FMTTYPE=image/jpeg:https://www.thedigitalneighborhood.com/wp-content/uploads/2024/08/Collaboration3_kuvaus24_1200x630.jpg
END:VEVENT
BEGIN:VEVENT
DTSTART;TZID=Europe/Amsterdam:20240925T080000
DTEND;TZID=Europe/Amsterdam:20240925T090000
DTSTAMP:20260423T062142
CREATED:20240827T053852Z
LAST-MODIFIED:20240827T053852Z
UID:58262-1727251200-1727254800@www.thedigitalneighborhood.com
SUMMARY:Webinar: Seeking Balance – The Benefits and Challenges of Microsoft's Copilot in Sales

URL:https://www.thedigitalneighborhood.com/event/webinar-seeking-balance-the-benefits-and-challenges-of-microsofts-copilot-in-sales/
LOCATION:Webinar
ATTACH;FMTTYPE=image/jpeg:https://www.thedigitalneighborhood.com/wp-content/uploads/2024/08/Support_kuvaus24_1200x630.jpg
END:VEVENT
BEGIN:VEVENT
DTSTART;TZID=Europe/Amsterdam:20240924T080000
DTEND;TZID=Europe/Amsterdam:20240924T090000
DTSTAMP:20260423T062142
CREATED:20240827T053048Z
LAST-MODIFIED:20240827T053931Z
UID:58259-1727164800-1727168400@www.thedigitalneighborhood.com
SUMMARY:Webinar: Ensure the Smart Future of Your Business with Copilot Extensions

URL:https://www.thedigitalneighborhood.com/event/sulava-webinar-ensure-the-smart-future-of-your-business-with-copilot-extensions/
LOCATION:Webinar
ATTACH;FMTTYPE=image/jpeg:https://www.thedigitalneighborhood.com/wp-content/uploads/2024/08/Vastaanotto_kuvaus24_1200x630.jpg
END:VEVENT
BEGIN:VEVENT
DTSTART;VALUE=DATE:20240924
DTEND;VALUE=DATE:20240925
DTSTAMP:20260423T062142
CREATED:20240716T132852Z
LAST-MODIFIED:20240716T132852Z
UID:58214-1727136000-1727222399@www.thedigitalneighborhood.com
SUMMARY:Edgecase 2024: Kubernetes on and at the Edge

URL:https://www.thedigitalneighborhood.com/event/edgecase-2024-kubernetes-on-and-at-the-edge/
LOCATION:De Rijtuigenloods\, Amersfoort\, Piet Mondriaanplein 61\, Amersfoort\, 3812GZ\, Netherlands
CATEGORIES:Knowledge sharing
ATTACH;FMTTYPE=image/webp:https://www.thedigitalneighborhood.com/wp-content/uploads/2024/07/Edgecase-2023-1.webp
END:VEVENT
BEGIN:VEVENT
DTSTART;TZID=Europe/Amsterdam:20240918T100000
DTEND;TZID=Europe/Amsterdam:20240918T153000
DTSTAMP:20260423T062142
CREATED:20240903T115521Z
LAST-MODIFIED:20240903T115521Z
UID:58319-1726653600-1726673400@www.thedigitalneighborhood.com
SUMMARY:Azure DevOps Community

URL:https://www.thedigitalneighborhood.com/event/azure-devops-community-2/
LOCATION:Foss Analytics\, Nils Foss Allé 1\, Hillerød\, 3400\, Denmark
END:VEVENT
BEGIN:VEVENT
DTSTART;TZID=Europe/Amsterdam:20240918T080000
DTEND;TZID=Europe/Amsterdam:20240918T090000
DTSTAMP:20260423T062142
CREATED:20240613T122023Z
LAST-MODIFIED:20240613T122023Z
UID:58063-1726646400-1726650000@www.thedigitalneighborhood.com
SUMMARY:Microsoft Sentinel\, a SIEM solution for every platform

URL:https://www.thedigitalneighborhood.com/event/microsoft-sentinel-a-siem-solution-for-every-platform/
LOCATION:Webinar
ATTACH;FMTTYPE=image/jpeg:https://www.thedigitalneighborhood.com/wp-content/uploads/2024/06/Oliver-Lahti_1080x1080px.jpg
END:VEVENT
BEGIN:VEVENT
DTSTART;TZID=Europe/Amsterdam:20240917T120000
DTEND;TZID=Europe/Amsterdam:20240917T180000
DTSTAMP:20260423T062142
CREATED:20240724T114020Z
LAST-MODIFIED:20240724T114020Z
UID:58242-1726574400-1726596000@www.thedigitalneighborhood.com
SUMMARY:Copilot workshop Pink Elephant

URL:https://www.thedigitalneighborhood.com/event/copilot-workshop-pink-elephant/
LOCATION:Pink Elephant Headquarters\, Gooimeer 18\, Naarden\, Noord-Holland&nbsp\, 1411DE\, Netherlands
END:VEVENT
BEGIN:VEVENT
DTSTART;TZID=Europe/Amsterdam:20240917T080000
DTEND;TZID=Europe/Amsterdam:20240917T090000
DTSTAMP:20260423T062142
CREATED:20240618T091321Z
LAST-MODIFIED:20240618T091417Z
UID:58085-1726560000-1726563600@www.thedigitalneighborhood.com
SUMMARY:Webinar: Discover Agile Analytics – Introducing Microsoft Fabric

URL:https://www.thedigitalneighborhood.com/event/webinar-discover-agile-analytics-introducing-microsoft-fabric/
LOCATION:Webinar
ATTACH;FMTTYPE=image/jpeg:https://www.thedigitalneighborhood.com/wp-content/uploads/2024/06/Patrik-Aalto-900x1200-1.jpg
END:VEVENT
BEGIN:VEVENT
DTSTART;TZID=Europe/Amsterdam:20240910T080000
DTEND;TZID=Europe/Amsterdam:20240910T090000
DTSTAMP:20260423T062142
CREATED:20240618T072320Z
LAST-MODIFIED:20240618T072320Z
UID:58080-1725955200-1725958800@www.thedigitalneighborhood.com
SUMMARY:Back to work with Copilot

URL:https://www.thedigitalneighborhood.com/event/back-to-work-with-copilot/
LOCATION:Webinar
ATTACH;FMTTYPE=image/jpeg:https://www.thedigitalneighborhood.com/wp-content/uploads/2024/06/Emma-Klen_900x1200.jpg
END:VEVENT
BEGIN:VEVENT
DTSTART;TZID=Europe/Amsterdam:20240829T100000
DTEND;TZID=Europe/Amsterdam:20240829T230000
DTSTAMP:20260423T062142
CREATED:20240801T065748Z
LAST-MODIFIED:20240801T065748Z
UID:58246-1724925600-1724972400@www.thedigitalneighborhood.com
SUMMARY:Webinar: Take a digital quantum leap and gather citizen inquiries and case management in one standard platform

URL:https://www.thedigitalneighborhood.com/event/webinar-take-a-digital-quantum-leap-and-gather-citizen-inquiries-and-case-management-in-one-standard-platform/
LOCATION:Webinar
END:VEVENT
END:VCALENDAR